BEGIN:VCALENDAR
VERSION:2.0
PRODID:-//wp-events-plugin.com//7.2.3.1//EN
TZID:Europe/Berlin
X-WR-TIMEZONE:Europe/Berlin
BEGIN:VEVENT
UID:210@skiclubschleissheim.de
DTSTART;TZID=Europe/Berlin:20260110T054500
DTEND;TZID=Europe/Berlin:20260110T190000
DTSTAMP:20251217T111036Z
URL:https://skiclubschleissheim.de/events/eroeffnungsfahrt-kitzbuehel-skib
 us-scs-e-v/
SUMMARY:Eröffnungsfahrt Kitzbühel Skibus SCS e.V.
DESCRIPTION:Tagesskibusfahrt nach Kitzbühel am 10.01.2026
ATTACH;FMTTYPE=image/jpeg:https://skiclubschleissheim.de/wp-content/upload
 s/2025/11/Eroeffnungsfahrt.png
CATEGORIES:Skibusfahrt,Winterprogramm
LOCATION:Kitzbühel\, Hahnenkammstraße 1a\, Kitzbühel\, Tirol\, 6370\, Ö
 sterreich
X-APPLE-STRUCTURED-LOCATION;VALUE=URI;X-ADDRESS=Hahnenkammstraße 1a\, Kitz
 bühel\, Tirol\, 6370\, Österreich;X-APPLE-RADIUS=100;X-TITLE=Kitzbühel:
 geo:0,0
END:VEVENT
BEGIN:VTIMEZONE
TZID:Europe/Berlin
X-LIC-LOCATION:Europe/Berlin
BEGIN:STANDARD
DTSTART:20251026T020000
TZOFFSETFROM:+0200
TZOFFSETTO:+0100
TZNAME:CET
END:STANDARD
END:VTIMEZONE
END:VCALENDAR