BEGIN:VCALENDAR
VERSION:2.0
PRODID:-//wp-events-plugin.com//7.2.3.1//EN
TZID:Europe/Berlin
X-WR-TIMEZONE:Europe/Berlin
BEGIN:VEVENT
UID:183@skiclubschleissheim.de
DTSTART;TZID=Europe/Berlin:20250302T080000
DTEND;TZID=Europe/Berlin:20250302T180000
DTSTAMP:20250217T153906Z
URL:https://skiclubschleissheim.de/events/faschingstreiben-buergerplatz-ob
 erschleissheim-2/
SUMMARY:Faschingstreiben Bürgerplatz Oberschleißheim
DESCRIPTION:Wie jedes Jahr nimmt der SkiClub wieder am Faschingstreiben der
  Gemeinde Oberschleißheim teil.\nDazu benötigen wir für folgende Aktion
 en Helfer:\n\n- Aufbau ab 08:00 Uhr\n- Verkauf Schicht 1: 12:30 Uhr - 15:0
 0 Uhr\n- Verkauf Schicht 2: 15:00 Uhr - 18 Uhr\n- Abbau ab 18 Uhr\n- Kuche
 nbäcker für den Kuchenverkauf\n\nAnmeldung per Mail an 1.vorstand@skiclu
 bschleissheim.de\n\nIch möchte mich im Vorfeld schonmal für die rege Unt
 erstützung bedanken!\nBitte sendet mir auch nochmal eine Mail wenn ihr mi
 r schon mündlich Bescheid gegeben habt!
ATTACH;FMTTYPE=image/jpeg:https://skiclubschleissheim.de/wp-content/upload
 s/2025/02/wig-g430bc29bd_640.jpg
CATEGORIES:Veranstaltungen
END:VEVENT
BEGIN:VTIMEZONE
TZID:Europe/Berlin
X-LIC-LOCATION:Europe/Berlin
BEGIN:STANDARD
DTSTART:20241027T020000
TZOFFSETFROM:+0200
TZOFFSETTO:+0100
TZNAME:CET
END:STANDARD
END:VTIMEZONE
END:VCALENDAR