BEGIN:VCALENDAR
VERSION:2.0
PRODID:-//wp-events-plugin.com//7.2.3.1//EN
TZID:Europe/Berlin
X-WR-TIMEZONE:Europe/Berlin
BEGIN:VEVENT
UID:178@skiclubschleissheim.de
DTSTART;TZID=Europe/Berlin;VALUE=DATE:20250301
DTEND;TZID=Europe/Berlin;VALUE=DATE:20250302
DTSTAMP:20250225T122056Z
URL:https://skiclubschleissheim.de/events/skibus-wildschoenau/
SUMMARY:Skibus Wildschönau
DESCRIPTION:Datum:\n01.03.2025\nVeranstaltungsort:\nSkigebiet Wildschönau 
 Link zur Webseite\nZiel ist nicht verbindlich und kann z. B. aufgrund von 
 Schneeverhältnissen geändert werden.\n\nTreffpunkt:\n5.45 Uhr am HIT in 
 Oberschleissheim\, 6.00 Uhr Abfahrt\nLeitung:\nGunther Lekies/Tobias Pflü
 gler\nProgramminhalte:\nTagesskibusfahrt für alle Skiinteressierten\nInfo
 s:\nwww.skiclubschleissheim.de\n\nBezahlung:\nErfolgt im Bus\nAnmeldung:\n
 www.skiclubschleissheim.de\nDie Anmeldung ist verbindlich!!\nAnmeldeschlus
 s:\n25.02.2025\nBesonderheiten:\nAuf Wunsch und nach Vereinbarung vor der 
 Fahrt(!) kann z. B. für Langläufer ein bestimmter Startpunkt am Weg ange
 fahren werden.\nSkitourengeher können im/am Skigebiet unter anderem folge
 nde Touren durchführen: Link\nTeilnahmevoraussetzungen:\nTeilnehmen kann 
 jeder. Für das\, was Ihr im Skigebiet macht\, seid Ihr selbst verantwortl
 ich.\nAusrüstung:\nHaftung Die Teilnahme erfolgt auf eigene Gefahr. Wir h
 aften nicht bei Unfall\, Verletzungen\, Schädigungen\, Verlust\, Diebstah
 l\, Verspätung und sonstigen Unregelmäßigkeiten.\n\nAnweisungen des Lei
 tenden sind für alle Teilnehmer verbindlich.\n\n
ATTACH;FMTTYPE=image/jpeg:https://skiclubschleissheim.de/wp-content/upload
 s/2024/10/scs_logo_transparent.png
CATEGORIES:Skibusfahrt,Skikurs,Winterprogramm
END:VEVENT
BEGIN:VTIMEZONE
TZID:Europe/Berlin
X-LIC-LOCATION:Europe/Berlin
BEGIN:STANDARD
DTSTART:20241027T020000
TZOFFSETFROM:+0200
TZOFFSETTO:+0100
TZNAME:CET
END:STANDARD
END:VTIMEZONE
END:VCALENDAR