BEGIN:VCALENDAR
VERSION:2.0
PRODID:-//wp-events-plugin.com//7.2.3.1//EN
TZID:Europe/Berlin
X-WR-TIMEZONE:Europe/Berlin
BEGIN:VEVENT
UID:184@skiclubschleissheim.de
DTSTART;TZID=Europe/Berlin:20260414T190000
DTEND;TZID=Europe/Berlin:20260414T220000
DTSTAMP:20260323T091135Z
URL:https://skiclubschleissheim.de/events/skiclub-schleissheim-jahreshaupt
 versammlung/
SUMMARY:Skiclub Schleißheim Jahreshauptversammlung
DESCRIPTION:Jahreshauptversammlung am 14.04.2026\nLiebe Mitglieder des SkiC
 lub Schleißheim\,\nHiermit lade ich euch herzlich alle zu unserer Jahresh
 auptversammlung 2025 ein.\nDiese findet dieses Jahr am Dienstag den 14.04.
 26 um 19 Uhr im Konferenzraum des Bürgersaals statt.\nIch freue mich auf 
 rege Teilnahme\, es gibt einiges aus dem letzten Jahr zu berichten!\nDie T
 agesordnung lautet wie folgt:\n1. Eröffnung durch den V orsitzenden\n2. E
 hrung der Vereinsjubilare für 25-jährige und 50-jährige Mitgliedschaft\
 n3. Bericht des V orsitzenden\n4. Bericht des 1. Jugendleiters\n5. Bericht
  des 1. Kassiers\n6. Berichte der zwei Hüttenwarte\n7. Berichte der Revis
 oren\n8. Aussprache zu den Berichten\n9. Vorlage eines Finanzplanes für d
 as Geschäftsjahr 2026\n10. Ernennung des Wahlausschusses\n11. Entlastung 
 des Vorstandes\n12. Neuwahl des Vorstandes\n13. Neuwahl der Revisoren für
  das laufende Geschäftsjahr\n14. Anträge an die Jahreshauptversammlung u
 nd sonstiges\nEuer 1. Vorstand\nTobias Pflügler\n
CATEGORIES:Veranstaltungen,Vereinsabend
LOCATION:Bürgerhaus Oberschleissheim\, Theodor-Heuss-Str. 28\, Oberschleis
 sheim\, Deutschland
X-APPLE-STRUCTURED-LOCATION;VALUE=URI;X-ADDRESS=Theodor-Heuss-Str. 28\, Obe
 rschleissheim\, Deutschland;X-APPLE-RADIUS=100;X-TITLE=Bürgerhaus Obersch
 leissheim:geo:0,0
END:VEVENT
BEGIN:VTIMEZONE
TZID:Europe/Berlin
X-LIC-LOCATION:Europe/Berlin
BEGIN:DAYLIGHT
DTSTART:20260329T030000
TZOFFSETFROM:+0100
TZOFFSETTO:+0200
TZNAME:CEST
END:DAYLIGHT
END:VTIMEZONE
END:VCALENDAR