BEGIN:VCALENDAR
VERSION:2.0
PRODID:-//wp-events-plugin.com//7.2.3.1//EN
TZID:Europe/Berlin
X-WR-TIMEZONE:Europe/Berlin
BEGIN:VEVENT
UID:179@skiclubschleissheim.de
DTSTART;TZID=Europe/Berlin;VALUE=DATE:20250201
DTEND;TZID=Europe/Berlin;VALUE=DATE:20250202
DTSTAMP:20250102T172008Z
URL:https://skiclubschleissheim.de/events/tagesskikurse-skiclub-schleisshe
 im-2025/
SUMMARY:Tagesskikurse Skiclub Schleissheim 2025
DESCRIPTION:Datum:\n01.02.2025/15.02.2025/01.03.2025\nVeranstaltungsort:\nS
 teinplatte/Kössen/Wildschönau\nZiel ist nicht verbindlich und kann z. B.
  aufgrund von Schneeverhältnissen geändert werden.\n\nTreffpunkt:\n5.45 
 Uhr am HIT in Oberschleissheim\, 6.00 Uhr Abfahrt\nLeitung:\nGunther Lekie
 s/Tobias Pflügler\nProgramminhalte:\n3x 1 Tag Tagesskikurs für Anfänger
  und leicht Fortgeschrittene.\nEine zusätzliche Buchung für den normale 
 Tagesfahrt ist nicht mehr nötig!\nInfos:\nwww.skiclubschleissheim.de\n\nB
 ezahlung:\n\nPer Überweisung der Kursgebühr auf das Konto des Skiclub Sc
 hleissheim e.V. bei Kreissparkasse München unter Nennung des Namens und d
 em Stichwort „Skikurs 2025“\n\n\nAnmeldung:\nwww.skiclubschleissheim.d
 e\nDie Anmeldung ist verbindlich!!\nAnmeldeschluss:\n28.01.2025\nBesonderh
 eiten:\nDer Fahrtpreis umfasst Skiunterricht mit vereinseigenen Skilehrern
  bzw. Skilehrern aus Partnervereinen und die Busfahrt ins Skigebiet.\nWeit
 ere Informationen siehe: Hinweise_Skikurse_SCS!\nMit der Anmeldung akzepti
 ert der Anmelder die Inhalte des Infoblattes!\n\nTeilnahmevoraussetzungen:
 \nSiehe Infoblatt\nAusrüstung:\nSkiausrüstung kann im Skigebiet geliehen
  werden (nicht im Fahrtpreis enthalten) Bei allen Kursen besteht Helmpflic
 ht!\nHaftung:\nDie Teilnahme erfolgt auf eigene Gefahr. Wir haften nicht b
 ei Unfall\, Verletzungen\, Schädigungen\, Verlust\, Diebstahl\, Verspätu
 ng und sonstigen Unregelmäßigkeiten.\n\nAnweisungen des Leitenden sind f
 ür alle Teilnehmer verbindlich.\n\n
ATTACH;FMTTYPE=image/jpeg:https://skiclubschleissheim.de/wp-content/upload
 s/2024/10/scs_logo_transparent.png
CATEGORIES:Skibusfahrt,Skikurs,Winterprogramm
END:VEVENT
BEGIN:VTIMEZONE
TZID:Europe/Berlin
X-LIC-LOCATION:Europe/Berlin
BEGIN:STANDARD
DTSTART:20241027T020000
TZOFFSETFROM:+0200
TZOFFSETTO:+0100
TZNAME:CET
END:STANDARD
END:VTIMEZONE
END:VCALENDAR