BEGIN:VCALENDAR
VERSION:2.0
PRODID:-//wp-events-plugin.com//7.2.3.1//EN
TZID:Europe/Berlin
X-WR-TIMEZONE:Europe/Berlin
BEGIN:VEVENT
UID:180@skiclubschleissheim.de
DTSTART;TZID=Europe/Berlin;VALUE=DATE:20250201
DTEND;TZID=Europe/Berlin;VALUE=DATE:20250202
DTSTAMP:20241028T131723Z
URL:https://skiclubschleissheim.de/events/zwergerlskikurs-skiclub-schleiss
 heim-2025-2/
SUMMARY:Zwergerlskikurse Skiclub Schleissheim 2025
DESCRIPTION:Datum:\n01.02.2025/15.02.2025/01.03.2025\nVeranstaltungsort:\nS
 teinplatte/Kössen/Wildschönau\nZiel ist nicht verbindlich und kann z. B.
  aufgrund von Schneeverhältnissen geändert werden.\n\nTreffpunkt:\n5.45 
 Uhr am HIT in Oberschleissheim\, 6.00 Uhr Abfahrt\nLeitung:\nGunther Lekie
 s/Tobias Pflügler\nProgramminhalte:\n3x 1 Tag Tagesskikurs für 4-6 jähr
 ige Anfänger\nTage sind einzeln buchbar.\nEine zusätzliche Buchung für 
 den normale Tagesfahrt ist nicht mehr nötig!\nInfos:\nwww.skiclubschleiss
 heim.de 1.vorstand@skiclubschleissheim.de und jugend@skiclubschleissheim.d
 e\n\nBezahlung:\n\nPer Überweisung der Kursgebühr auf das Konto des Skic
 lub Schleissheim e.V. bei Kreissparkasse München unter Nennung des Namens
  und dem Stichwort „Zwergerlkurs 2025“\n\n\nAnmeldung:\nwww.skiclubsch
 leissheim.de\nDie Anmeldung ist verbindlich!!\nAnmeldeschluss:\n28.01.2025
 \nBesonderheiten:\nDer Fahrtpreis umfasst Skiunterricht mit vereinseigenen
  Skilehrern bzw. Skilehrern aus Partnervereinen und die Busfahrt ins Skige
 biet.\nDie kleinen werden ganztägig von einer unserer Jugendleiterinnen b
 etreut.\nEltern können mitfahren und bezahlen nur den Buspreis in Höhe v
 on 24\,-€ bzw. 28\,-€ (Nichtmitglieder)Weitere Informationen siehe: In
 foblatt_Zwergerlskikurse_2025_SCS!\nMit der Anmeldung akzeptiert der Anmel
 der die Inhalte des Infoblattes!\n\nTeilnahmevoraussetzungen:\nSiehe Infob
 latt\nKinder können rechtzeitig und selbständig auf die Toilette gehen\n
 \nAusrüstung:\nSkiausrüstung kann im Skigebiet geliehen werden (nicht im
  Fahrtpreis enthalten) Bei allen Kursen besteht Helmpflicht!\nHaftung:\nDi
 e Teilnahme erfolgt auf eigene Gefahr. Wir haften nicht bei Unfall\, Verle
 tzungen\, Schädigungen\, Verlust\, Diebstahl\, Verspätung und sonstigen 
 Unregelmäßigkeiten.\n\nAnweisungen des Leitenden sind für alle Teilnehm
 er verbindlich.\n\n
ATTACH;FMTTYPE=image/jpeg:https://skiclubschleissheim.de/wp-content/upload
 s/2024/10/scs_logo_transparent.png
CATEGORIES:Jugend,Skikurs,Winterprogramm
END:VEVENT
BEGIN:VTIMEZONE
TZID:Europe/Berlin
X-LIC-LOCATION:Europe/Berlin
BEGIN:STANDARD
DTSTART:20241027T020000
TZOFFSETFROM:+0200
TZOFFSETTO:+0100
TZNAME:CET
END:STANDARD
END:VTIMEZONE
END:VCALENDAR